BEGIN:VCALENDAR
VERSION:2.0
PRODID:-// - ECPv6.15.20//NONSGML v1.0//EN
CALSCALE:GREGORIAN
METHOD:PUBLISH
X-ORIGINAL-URL:https://motoclubdauphinois.fr
X-WR-CALDESC:Évènements pour 
REFRESH-INTERVAL;VALUE=DURATION:PT1H
X-Robots-Tag:noindex
X-PUBLISHED-TTL:PT1H
BEGIN:VTIMEZONE
TZID:UTC
BEGIN:STANDARD
TZOFFSETFROM:+0000
TZOFFSETTO:+0000
TZNAME:UTC
DTSTART:20210101T000000
END:STANDARD
END:VTIMEZONE
BEGIN:VEVENT
DTSTART;TZID=UTC:20250913T080000
DTEND;TZID=UTC:20250914T170000
DTSTAMP:20260423T113253
CREATED:20250407T114117Z
LAST-MODIFIED:20250407T114117Z
UID:668-1757750400-1757869200@motoclubdauphinois.fr
SUMMARY:Week end à Orpierre du 13 au 14 septembre 2025 (complet)
DESCRIPTION:Possibilité de partir le partir le vendredi 12 septembre après midi.
URL:https://motoclubdauphinois.fr/event/week-end-a-orpierre-du-13-au-14-septembre-2025-complet
CATEGORIES:Section Tourisme
END:VEVENT
BEGIN:VEVENT
DTSTART;TZID=UTC:20250712T080000
DTEND;TZID=UTC:20250713T170000
DTSTAMP:20260423T113253
CREATED:20250407T113926Z
LAST-MODIFIED:20250407T113926Z
UID:666-1752307200-1752426000@motoclubdauphinois.fr
SUMMARY:Week end en partenariat avec le Club Lotus du 12 au 13 juillet 2025
DESCRIPTION:
URL:https://motoclubdauphinois.fr/event/week-end-en-partenariat-avec-le-club-lotus-du-12-au-13-juillet-2025
CATEGORIES:Section Tourisme
END:VEVENT
BEGIN:VEVENT
DTSTART;TZID=UTC:20250607T080000
DTEND;TZID=UTC:20250608T170000
DTSTAMP:20260423T113253
CREATED:20250407T113106Z
LAST-MODIFIED:20250509T131036Z
UID:659-1749283200-1749402000@motoclubdauphinois.fr
SUMMARY:Week end de la Pentecôte partenariat avec l'Ecole IDRAC ( il reste des places)
DESCRIPTION:Le MCD renouvelle son partenariat avec l’école de commerce IDRAC pour un weekend intergénérationnel. Le 6 juin grosse soirée avec un concert aller sur le QR code pour en savoir plus…
URL:https://motoclubdauphinois.fr/event/week-end-de-la-pentecote-partenariat-avec-lecole-idrac
CATEGORIES:Section Tourisme
END:VEVENT
BEGIN:VEVENT
DTSTART;TZID=UTC:20250529T080000
DTEND;TZID=UTC:20250601T170000
DTSTAMP:20260423T113253
CREATED:20250407T112905Z
LAST-MODIFIED:20250407T113746Z
UID:657-1748505600-1748797200@motoclubdauphinois.fr
SUMMARY:Week end de l'ascension à Thiery (06) du 29 mai au 1er juin 2025 (complet)
DESCRIPTION:
URL:https://motoclubdauphinois.fr/event/week-end-de-lascension-a-thiery-dans-le-06-du-29-mai-au-1er-juin-2025-complet
CATEGORIES:Section Tourisme
END:VEVENT
BEGIN:VEVENT
DTSTART;TZID=UTC:20250419T080000
DTEND;TZID=UTC:20250421T170000
DTSTAMP:20260423T113253
CREATED:20250407T112645Z
LAST-MODIFIED:20250407T113735Z
UID:655-1745049600-1745254800@motoclubdauphinois.fr
SUMMARY:Week end de Pâques dans le var du 19 au 21 avril 2025 (complet)
DESCRIPTION:Pour le Week end de Pâques le MCD se rend dans le VAR avec 19 adhérents.
URL:https://motoclubdauphinois.fr/event/week-end-de-paques-dans-le-var-du-19-au-21-avril-2025
CATEGORIES:Section Tourisme
END:VEVENT
BEGIN:VEVENT
DTSTART;VALUE=DATE:20230930
DTEND;VALUE=DATE:20231002
DTSTAMP:20260423T113253
CREATED:20230227T121057Z
LAST-MODIFIED:20230227T121057Z
UID:596-1696032000-1696204799@motoclubdauphinois.fr
SUMMARY:Week-end dans les Gorges du verdon
DESCRIPTION:Afin de pouvoir organiser dans les meilleurs délais les séjours\, la date limite des inscriptions est fixée au 15 Février 2023.
URL:https://motoclubdauphinois.fr/event/week-end-dans-les-gorges-du-verdon
CATEGORIES:Section Tourisme
END:VEVENT
BEGIN:VEVENT
DTSTART;VALUE=DATE:20230724
DTEND;VALUE=DATE:20240730
DTSTAMP:20260423T113253
CREATED:20221024T091233Z
LAST-MODIFIED:20221024T094829Z
UID:574-1690156800-1722297599@motoclubdauphinois.fr
SUMMARY:Séjour en Italie - Col du Stelvio
DESCRIPTION:Bonjour\,\n\nNous vous proposons un séjour en Italie du 24 au 29 juillet 2023\n\n– Budget prévisionnel pour les hébergements et les repas : 600€ par personne\n– Kilomètres estimés : 1 600 kms\n\nDéroulement du séjour :\n– 1 nuit en Hôtel à mi-parcours entre Grenoble et le lac de Côme le 24 juillet\n– 3 nuits en hôtel ou en Agriturismo vers le lac de Côme du 25 au 28 juillet\n     Le Col du Stelvio et le lac de Côme\n– 1 nuit en hôtel à mi-parcours entre le lac de Côme et Grenoble le 28 juillet.\n\nAfin de pouvoir organiser dans les meilleurs délais le séjour\, la clôture des inscriptions est fixée au 31 octobre 2022.\n\nPour les personnes seules lors de votre inscription\, pouvez-vous me préciser si vous acceptez de partager la chambre avec un autre participant.\nAfin de limiter le nombre de chambres\, il serait souhaitable que les personnes seules se regroupent.\n\n\nA bientôt
URL:https://motoclubdauphinois.fr/event/sejour-en-italie-col-du-stelvio-juillet-2023
LOCATION:Italie
CATEGORIES:Section Tourisme
END:VEVENT
BEGIN:VEVENT
DTSTART;VALUE=DATE:20230624
DTEND;VALUE=DATE:20230626
DTSTAMP:20260423T113253
CREATED:20230227T120946Z
LAST-MODIFIED:20230227T120946Z
UID:594-1687564800-1687737599@motoclubdauphinois.fr
SUMMARY:Week-end au Petit Saint Bernard\, Grand Saint Bernard\, col de la Forclaz
DESCRIPTION:Afin de pouvoir organiser dans les meilleurs délais les séjours\, la date limite des inscriptions est fixée au 15 Février 2023.
URL:https://motoclubdauphinois.fr/event/week-end-au-petit-saint-bernard-grand-saint-bernard-col-de-la-forclaz
CATEGORIES:Section Tourisme
END:VEVENT
BEGIN:VEVENT
DTSTART;VALUE=DATE:20230518
DTEND;VALUE=DATE:20230521
DTSTAMP:20260423T113253
CREATED:20230227T120824Z
LAST-MODIFIED:20230227T121115Z
UID:592-1684368000-1684627199@motoclubdauphinois.fr
SUMMARY:3 jours dans les Gorges du Tarn\, Gorges de la Dourbie\, le cirque de Navacelle
DESCRIPTION:Afin de pouvoir organiser dans les meilleurs délais les séjours\, la date limite des inscriptions est fixée au 15 Février 2023.
URL:https://motoclubdauphinois.fr/event/3-jours-dans-les-gorges-du-tarn-gorges-de-la-dourbie-le-cirque-de-navacelle
CATEGORIES:Section Tourisme
END:VEVENT
BEGIN:VEVENT
DTSTART;VALUE=DATE:20230506
DTEND;VALUE=DATE:20230507
DTSTAMP:20260423T113253
CREATED:20230505T150202Z
LAST-MODIFIED:20230505T150202Z
UID:616-1683331200-1683417599@motoclubdauphinois.fr
SUMMARY:Balade dans le Pilat
DESCRIPTION:Bonjour\, \nJe vous propose une balade dans le PNR du Pilat  (295 km)  le samedi 6 mai 2023. \nLe départ est fixé à 10h00 à Leclerc Comboire. \nPrévoir le pique-nique pour le repas de midi. \nGérard
URL:https://motoclubdauphinois.fr/event/balade-dans-le-pilat
CATEGORIES:Section Tourisme
END:VEVENT
BEGIN:VEVENT
DTSTART;VALUE=DATE:20230501
DTEND;VALUE=DATE:20230502
DTSTAMP:20260423T113253
CREATED:20230503T095901Z
LAST-MODIFIED:20230503T095901Z
UID:614-1682899200-1682985599@motoclubdauphinois.fr
SUMMARY:Journée dans la Drôme provençale
DESCRIPTION:Bonjour\,\n\n\n\n\nJe vous propose une petite virée en Drôme provençale. \nRdv  9h30 carrefour Saint-Egrève . Le départ sera à 9h45 – 290 km.\nPrévoir le pique nique.\n\nCatherine
URL:https://motoclubdauphinois.fr/event/journee-dans-la-drome-provencale
CATEGORIES:Section Tourisme
END:VEVENT
BEGIN:VEVENT
DTSTART;VALUE=DATE:20230221
DTEND;VALUE=DATE:20230222
DTSTAMP:20260423T113253
CREATED:20230227T121243Z
LAST-MODIFIED:20230227T121243Z
UID:599-1676937600-1677023999@motoclubdauphinois.fr
SUMMARY:Balade dans le sud de l' Isère
DESCRIPTION:Bonjour à tous\,\n\nPetite balade dans le sud de l’ Isère\, le Dévoluy…\nDépart 10h de Crolles ou 10h30 Grenoble\, retour 17h.\nCasse croûte à l’ auberge d’ Aspres les corps \n\nBonne journée
URL:https://motoclubdauphinois.fr/event/balade-dans-le-sud-de-l-isere
CATEGORIES:Section Tourisme
END:VEVENT
BEGIN:VEVENT
DTSTART;VALUE=DATE:20230219
DTEND;VALUE=DATE:20230220
DTSTAMP:20260423T113253
CREATED:20230227T122130Z
LAST-MODIFIED:20230227T122130Z
UID:601-1676764800-1676851199@motoclubdauphinois.fr
SUMMARY:Balade en Isère\, vers Vienne
DESCRIPTION:Bonjour\, \nPour ceux qui veulent rouler gentiment sous le soleil\, ce dimanche 19 Février\, je vous propose une balade en Isère\, vers Vienne.\n227 Kms de routes vallonnées\, avec même un petit petit col!\nRDV/ pompes à essence Carrefour Saint Egreve.\nDépart 10H30\nPrevoir pique nique. \nA dimanche!!
URL:https://motoclubdauphinois.fr/event/balade-en-isere-vers-vienne
CATEGORIES:Section Tourisme
END:VEVENT
BEGIN:VEVENT
DTSTART;VALUE=DATE:20221113
DTEND;VALUE=DATE:20221114
DTSTAMP:20260423T113253
CREATED:20221116T180521Z
LAST-MODIFIED:20221116T180521Z
UID:582-1668297600-1668383999@motoclubdauphinois.fr
SUMMARY:Balade au Lac Genin
DESCRIPTION:Bonjour à tous\, \nJe vous propose une balade au Lac Genin. (nord AIN) du distance totale de 285 Km.\nLe départ sera à la station essence Carrefour Saint-Egrève à 10h.\nIl faudra prévoir votre pique nique. \nBonne journée à tous.
URL:https://motoclubdauphinois.fr/event/balade-au-lac-genin
CATEGORIES:Section Tourisme
END:VEVENT
BEGIN:VEVENT
DTSTART;VALUE=DATE:20221009
DTEND;VALUE=DATE:20221010
DTSTAMP:20260423T113253
CREATED:20221024T094707Z
LAST-MODIFIED:20221024T094707Z
UID:577-1665273600-1665359999@motoclubdauphinois.fr
SUMMARY:Journée repas du MCD du dimanche 9 octobre 2022
DESCRIPTION:
URL:https://motoclubdauphinois.fr/event/journee-repas-du-mcd-du-dimanche-9-octobre-2022
CATEGORIES:Réunion
END:VEVENT
BEGIN:VEVENT
DTSTART;VALUE=DATE:20220918
DTEND;VALUE=DATE:20220919
DTSTAMP:20260423T113253
CREATED:20221024T094819Z
LAST-MODIFIED:20221024T094819Z
UID:579-1663459200-1663545599@motoclubdauphinois.fr
SUMMARY:Balade à Calvaire de Portes (Ordonnaz 01)
DESCRIPTION:Salut à tous\,\n\n\nJe vous propose une balade  au calvaire de Portes (Ordonnaz 01) 279 km  le dimanche 18 septembre 2022.\n\n\nLe départ est fixé à 10h00 à Leclerc Comboire.\nPrévoir le pique-nique pour le repas de midi.\nA bientôt
URL:https://motoclubdauphinois.fr/event/balade-a-calvaire-de-portes-ordonnaz-01
CATEGORIES:Section Tourisme
END:VEVENT
BEGIN:VEVENT
DTSTART;VALUE=DATE:20220910
DTEND;VALUE=DATE:20220912
DTSTAMP:20260423T113253
CREATED:20220216T103720Z
LAST-MODIFIED:20220216T103720Z
UID:506-1662768000-1662940799@motoclubdauphinois.fr
SUMMARY:Balade dans les Cévennes
DESCRIPTION:La clôture des inscriptions est fixée au 1 Avril 2022.
URL:https://motoclubdauphinois.fr/event/balade-dans-les-cevennes
LOCATION:Les Cévennes
CATEGORIES:Section Tourisme
END:VEVENT
BEGIN:VEVENT
DTSTART;TZID=UTC:20220724T080000
DTEND;TZID=UTC:20220724T170000
DTSTAMP:20260423T113253
CREATED:20220721T095531Z
LAST-MODIFIED:20220721T095531Z
UID:571-1658649600-1658682000@motoclubdauphinois.fr
SUMMARY:Balade dans le Cormet de Roselend
DESCRIPTION:Bonjour\,\n\nNous vous proposons un grand classique en ce mois de juillet : le Cormet de Roselend  le dimanche 24 juillet 2022.\n\n\n\nLe départ est fixé à 9h30 (impératif) à Leclerc Comboire.\nPrévoir le pique-nique pour le repas de midi.\n\nMerci de vous inscrire avant de venir à l’événement.
URL:https://motoclubdauphinois.fr/event/balade-dans-le-cormet-de-roselend
CATEGORIES:Section Tourisme
END:VEVENT
BEGIN:VEVENT
DTSTART;VALUE=DATE:20220702
DTEND;VALUE=DATE:20220704
DTSTAMP:20260423T113253
CREATED:20220216T102652Z
LAST-MODIFIED:20220216T102652Z
UID:502-1656720000-1656892799@motoclubdauphinois.fr
SUMMARY:Balade dans le Mercantour
DESCRIPTION:La clôture des inscriptions est fixée au 7 février 2022.
URL:https://motoclubdauphinois.fr/event/balade-dans-le-mercantour
LOCATION:Mercantour
CATEGORIES:Section Tourisme
END:VEVENT
BEGIN:VEVENT
DTSTART;VALUE=DATE:20220612
DTEND;VALUE=DATE:20220613
DTSTAMP:20260423T113253
CREATED:20220611T171908Z
LAST-MODIFIED:20220611T171908Z
UID:567-1654992000-1655078399@motoclubdauphinois.fr
SUMMARY:Balade dans le Dévoluy\, Buëch et Baronnies Provençales
DESCRIPTION:Bonjour\,\nAprès Les Bauges\, Le Pilat\, L’Ardèche\, Denis (Lino) vous propose un petit tour vers le Dévoluy\, Buëch\, et Baronnies Provençales\, le dimanche 12 juin 2022.\nAu menu 320 km de départementales plus ou moins larges z’et viroleuses. \nLe départ est fixé à 10h00 à Leclerc Comboire.\nPrévoir le pique-nique pour le repas de midi.
URL:https://motoclubdauphinois.fr/event/balade-dans-le-devoluy-buech-et-baronnies-provencales
LOCATION:Dévoluy\, Buëch et Baronnies Provençales
CATEGORIES:Section Tourisme
END:VEVENT
BEGIN:VEVENT
DTSTART;VALUE=DATE:20220610
DTEND;VALUE=DATE:20220613
DTSTAMP:20260423T113253
CREATED:20220216T105556Z
LAST-MODIFIED:20220216T110401Z
UID:513-1654819200-1655078399@motoclubdauphinois.fr
SUMMARY:Balade pour aller voir la Sunday Ride Classic sur le circuit Paul Ricard
DESCRIPTION:Rejoignez nous pour aller voir la Sunday Ride Classic\, une manifestation destinée aux machines de collection comprises entre les années 60 et les années 80 au circuit Paul Richard du Castellet. \n\n1000 motos en piste\,\n500 motos de collection en démonstration\,\n12 courses de vitesse\,\n2 de Sides Cars…\n\nUn moment convivial pour supporter les pilotes du Moto Club Dauphinois en course et durant les démonstrations. \nLes 50 ans de la 750 Kawasaki H2.\nUn salon de la moto avec plus de 10 constructeurs et près de 100 motos à l’essai ! \n> En savoir plus
URL:https://motoclubdauphinois.fr/event/balade-pour-aller-voir-la-sunday-ride-classic-sur-le-circuit-paul-ricard
LOCATION:Castellet
CATEGORIES:Evénement,Section Tourisme
END:VEVENT
BEGIN:VEVENT
DTSTART;VALUE=DATE:20220606
DTEND;VALUE=DATE:20220607
DTSTAMP:20260423T113253
CREATED:20220611T171706Z
LAST-MODIFIED:20220611T171706Z
UID:565-1654473600-1654559999@motoclubdauphinois.fr
SUMMARY:Balade dans le Vercors
DESCRIPTION:Bonjour\,\n\nNous vous proposons une balade de début de semaine car il semblerait que les conditions soient plus favorables.\nTerrain de jeu : le Vercors par les Coulmes\, combe Laval\, la Gervanne\, la route des  2 eaux\, col de la Croix\,  col du Rousset…\n278 kms\nDépart : 10h pompes essences carrefour à Saint-Egrève\nPrévoir pique nique
URL:https://motoclubdauphinois.fr/event/balade-dans-le-vercors
CATEGORIES:Section Tourisme
END:VEVENT
BEGIN:VEVENT
DTSTART;VALUE=DATE:20220526
DTEND;VALUE=DATE:20220530
DTSTAMP:20260423T113253
CREATED:20220216T102532Z
LAST-MODIFIED:20220216T103806Z
UID:500-1653523200-1653868799@motoclubdauphinois.fr
SUMMARY:Balade dans les Vosges
DESCRIPTION:La clôture des inscriptions pour les Vosges est fixée au 7 février 2022.
URL:https://motoclubdauphinois.fr/event/balade-dans-les-vosges-alsace
CATEGORIES:Section Tourisme
END:VEVENT
BEGIN:VEVENT
DTSTART;VALUE=DATE:20220522
DTEND;VALUE=DATE:20220523
DTSTAMP:20260423T113253
CREATED:20220520T141919Z
LAST-MODIFIED:20220520T141919Z
UID:562-1653177600-1653263999@motoclubdauphinois.fr
SUMMARY:Balade dans la Maurienne & Belledone
DESCRIPTION:Je vous propose un petit tour entre maurienne et belledonne\, histoire de rouler au frais .  256 km\, c’est cool!\ndepart par le col de la croix de fer (glandon toujours fermé) et retour par la chaine des hurtieres et balcons de belledone.\ndepart 10 H pompes essence leclerc comboire\nprevoir pique nique\, bien sur.
URL:https://motoclubdauphinois.fr/event/balade-dans-la-maurienne-belledone
CATEGORIES:Section Tourisme
END:VEVENT
BEGIN:VEVENT
DTSTART;VALUE=DATE:20220511
DTEND;VALUE=DATE:20220512
DTSTAMP:20260423T113253
CREATED:20220510T081738Z
LAST-MODIFIED:20220510T081738Z
UID:552-1652227200-1652313599@motoclubdauphinois.fr
SUMMARY:Balade Trail dans le Vercors
DESCRIPTION:Mercredi 11 mai\, le Moto Club Dauphinois propose une balade moto (petite route)\, secteur Vercors / Vercors sud / Diois / avec resto original et fort sympathique à Villeperdrix.\nDépart 8h30 de Crolles\, passage Grenoble à 8h50 (RP Intermarché Seyssins)\, retour 18h max Grenoble\nDes routes et des pistes faciles nous attendent ! (85/15) \nEt bien sur\, il va faire super beau
URL:https://motoclubdauphinois.fr/event/balade-trail-dans-le-vercors
CATEGORIES:Section Tourisme
END:VEVENT
BEGIN:VEVENT
DTSTART;VALUE=DATE:20220416
DTEND;VALUE=DATE:20220417
DTSTAMP:20260423T113253
CREATED:20220414T071947Z
LAST-MODIFIED:20220414T071947Z
UID:547-1650067200-1650153599@motoclubdauphinois.fr
SUMMARY:Balade en Ardèche
DESCRIPTION:Une balade en Ardèche est prévue le samedi 16 avril 2022.\nCette sortie est organisée par Denis (Lino).\n\nDirection VALENCE pour une incursion en Ardèche qui nous conduira à St\nPERAY – St ROMAIN de LERS – GILHOC sur ORMEZE – LAMASTRE – ARLEBOSC –\nCOLOMBIER LE VIEUX – TOURNON  ; \nRetour par les CHAMBARANS :  St DONAT sur L’HERBASSE – ROYBON – VINAY –\nGRENOBLE. \nEnviron 300kms. \n\n\nLe départ est fixé à 10h00 à Leclerc Comboire-Echirolles.\n\nPrévoir le pique-nique pour le repas de midi.
URL:https://motoclubdauphinois.fr/event/balade-en-ardeche
CATEGORIES:Section Tourisme
END:VEVENT
BEGIN:VEVENT
DTSTART;VALUE=DATE:20220327
DTEND;VALUE=DATE:20220328
DTSTAMP:20260423T113253
CREATED:20220414T072306Z
LAST-MODIFIED:20220414T072306Z
UID:550-1648339200-1648425599@motoclubdauphinois.fr
SUMMARY:Balade au Lac du Ternay (Ardèche)
DESCRIPTION:Une balade au Lac du Ternay est prévue le dimanche 27 mars 2022.\nCette sortie est organisée par Catherine.\n\nLe départ est fixé à 10h00 à Leclerc Comboire.\nAttention : changement d’heure dans la nuit (passage à l’heure d’été)\n\nPrévoir le pique-nique pour le repas de midi.
URL:https://motoclubdauphinois.fr/event/balade-au-lac-du-ternay-ardeche
CATEGORIES:Section Tourisme
END:VEVENT
BEGIN:VEVENT
DTSTART;VALUE=DATE:20220320
DTEND;VALUE=DATE:20220321
DTSTAMP:20260423T113253
CREATED:20220317T093509Z
LAST-MODIFIED:20220317T093509Z
UID:530-1647734400-1647820799@motoclubdauphinois.fr
SUMMARY:Balade au Col de Lescou (Drôme)
DESCRIPTION:Bonjour\, \n\nUne balade au Col de Lescou (Drôme) est prévue le dimanche 20 mars 2022.\nCette sortie est organisée par Catherine.\n\nLe départ est fixé à 10h00 à Leclerc Comboire.\n\nPrévoir le pique-nique pour le repas de midi.
URL:https://motoclubdauphinois.fr/event/balade-au-col-de-lescou-drome
LOCATION:Drôme
CATEGORIES:Section Tourisme
END:VEVENT
BEGIN:VEVENT
DTSTART;VALUE=DATE:20220317
DTEND;VALUE=DATE:20220318
DTSTAMP:20260423T113253
CREATED:20220315T074159Z
LAST-MODIFIED:20220317T093641Z
UID:528-1647475200-1647561599@motoclubdauphinois.fr
SUMMARY:Balade Trail "Sur les traces de Bouddha" : Isère & Savoie
DESCRIPTION:« Sur les traces de Bouddha » \n\n\n\n\nBalade moto trail sur une journée de 9h30 à 17h30\, vous découvrirez des pistes et petites routes entre Isère et Savoie.\nPrévoir le casse-croûte et la boussole !\n\nDépart du siège du club\, 85 chemin fouchard 38920 Crolles à 9h30 avec le plein d’ essence.\nPistes faciles\, niveau débutant\, 125 et 1000 acceptées sans problème !\n\nSportivement\, Hervé Le Près
URL:https://motoclubdauphinois.fr/event/balade-trail-sur-les-traces-de-bouddha-isere-savoie
CATEGORIES:Section Tourisme
END:VEVENT
BEGIN:VEVENT
DTSTART;VALUE=DATE:20220303
DTEND;VALUE=DATE:20220307
DTSTAMP:20260423T113253
CREATED:20220216T104628Z
LAST-MODIFIED:20220216T104653Z
UID:510-1646265600-1646611199@motoclubdauphinois.fr
SUMMARY:Balade pour aller au salon du 2 roues à Lyon
DESCRIPTION:
URL:https://motoclubdauphinois.fr/event/balade-pour-aller-au-salon-du-2-roues
CATEGORIES:Evénement
END:VEVENT
END:VCALENDAR